BEGIN:VCALENDAR
VERSION:2.0
PRODID:http://www.nahe-kirche.de
BEGIN:VEVENT
UID:fcfea758-3a09-11f1-a3e9-0242ac11002b-1784997000000-de
DTSTAMP:20260417T030319Z
DTSTART:20260725T163000Z
DTEND:20260725T170000Z
SUMMARY;LANGUAGE=de: Eucharistiefeier 
URL:http://www.nahe-kirche.de/aktuelles/gottesdienste/gottesdienst/Eucharistiefeier-2026.07.25/
END:VEVENT
END:VCALENDAR
