BEGIN:VCALENDAR
VERSION:2.0
PRODID:http://www.nahe-kirche.de
BEGIN:VEVENT
UID:fcc17745-3a09-11f1-a3e9-0242ac11002b-1784376000000-de
DTSTAMP:20260417T030319Z
DTSTART:20260718T120000Z
DTEND:20260718T124500Z
SUMMARY;LANGUAGE=de: Trauung des Brautpaares Kristina Engbarth und Christian Mayer mit Taufe des Kindes Felix Mayer-Engbarh 
END:VEVENT
END:VCALENDAR
