BEGIN:VCALENDAR
VERSION:2.0
PRODID:http://www.nahe-kirche.de
BEGIN:VEVENT
UID:d515acf0-3df7-11f1-a3e9-0242ac11002b-1783947600000-de
DTSTAMP:20260422T030326Z
DTSTART:20260713T130000Z
DTEND:20260713T133000Z
SUMMARY;LANGUAGE=de: Marienandacht 
URL:http://www.nahe-kirche.de/aktuelles/gottesdienste/gottesdienst/Marienandacht-2026.07.13/
END:VEVENT
END:VCALENDAR
