BEGIN:VCALENDAR
VERSION:2.0
PRODID:http://www.nahe-kirche.de
BEGIN:VEVENT
UID:d374f627-3df7-11f1-a3e9-0242ac11002b-1784451600000-de
DTSTAMP:20260422T030323Z
DTSTART:20260719T090000Z
DTEND:20260719T094500Z
SUMMARY;LANGUAGE=de: Gottesdienst in spanischer Sprache in St. Walburga 
END:VEVENT
END:VCALENDAR
