BEGIN:VCALENDAR
VERSION:2.0
PRODID:http://www.nahe-kirche.de
BEGIN:VEVENT
UID:d307b564-3df7-11f1-a3e9-0242ac11002b-1785429000000-de
DTSTAMP:20260422T030323Z
DTSTART:20260730T163000Z
DTEND:20260730T171500Z
SUMMARY;LANGUAGE=de: Eucharistiefeier 
URL:http://www.nahe-kirche.de/aktuelles/gottesdienste/gottesdienst/Eucharistiefeier-2026.07.30/
END:VEVENT
END:VCALENDAR
