BEGIN:VCALENDAR
VERSION:2.0
PRODID:http://www.nahe-kirche.de
BEGIN:VEVENT
UID:adced841-3d2e-11f1-a3e9-0242ac11002b-1785342600000-de
DTSTAMP:20260421T030331Z
DTSTART:20260729T163000Z
DTEND:20260729T171500Z
SUMMARY;LANGUAGE=de: Eucharistiefeier 
URL:http://www.nahe-kirche.de/aktuelles/gottesdienste/gottesdienst/Eucharistiefeier-2026.07.29/
END:VEVENT
END:VCALENDAR
