BEGIN:VCALENDAR
VERSION:2.0
PRODID:http://www.nahe-kirche.de
BEGIN:VEVENT
UID:7ff7903d-3c65-11f1-a3e9-0242ac11002b-1785225600000-de
DTSTAMP:20260420T030326Z
DTSTART:20260728T080000Z
DTEND:20260728T084500Z
SUMMARY;LANGUAGE=de: Eucharistiefeier 
URL:http://www.nahe-kirche.de/aktuelles/gottesdienste/gottesdienst/Eucharistiefeier-2026.07.28/
END:VEVENT
END:VCALENDAR
