BEGIN:VCALENDAR
VERSION:2.0
PRODID:http://www.nahe-kirche.de
BEGIN:VEVENT
UID:035d920e-3ec1-11f1-a3e9-0242ac11002b-1785492000000-de
DTSTAMP:20260423T030333Z
DTSTART:20260731T100000Z
DTEND:20260731T104500Z
SUMMARY;LANGUAGE=de: Andacht zur göttlichen Barmherzigkeit in St. Walburga 
END:VEVENT
END:VCALENDAR
